BEGIN:VCALENDAR
VERSION:2.0
PRODID:-//The City of Fulton - ECPv6.15.18//NONSGML v1.0//EN
CALSCALE:GREGORIAN
METHOD:PUBLISH
X-WR-CALNAME:The City of Fulton
X-ORIGINAL-URL:https://cityoffultonny.gov
X-WR-CALDESC:Events for The City of Fulton
REFRESH-INTERVAL;VALUE=DURATION:PT1H
X-Robots-Tag:noindex
X-PUBLISHED-TTL:PT1H
BEGIN:VTIMEZONE
TZID:America/New_York
BEGIN:DAYLIGHT
TZOFFSETFROM:-0500
TZOFFSETTO:-0400
TZNAME:EDT
DTSTART:20250309T070000
END:DAYLIGHT
BEGIN:STANDARD
TZOFFSETFROM:-0400
TZOFFSETTO:-0500
TZNAME:EST
DTSTART:20251102T060000
END:STANDARD
BEGIN:DAYLIGHT
TZOFFSETFROM:-0500
TZOFFSETTO:-0400
TZNAME:EDT
DTSTART:20260308T070000
END:DAYLIGHT
BEGIN:STANDARD
TZOFFSETFROM:-0400
TZOFFSETTO:-0500
TZNAME:EST
DTSTART:20261101T060000
END:STANDARD
BEGIN:DAYLIGHT
TZOFFSETFROM:-0500
TZOFFSETTO:-0400
TZNAME:EDT
DTSTART:20270314T070000
END:DAYLIGHT
BEGIN:STANDARD
TZOFFSETFROM:-0400
TZOFFSETTO:-0500
TZNAME:EST
DTSTART:20271107T060000
END:STANDARD
END:VTIMEZONE
BEGIN:VEVENT
DTSTART;TZID=America/New_York:20260418T090000
DTEND;TZID=America/New_York:20260418T120000
DTSTAMP:20260420T085945
CREATED:20260219T205539Z
LAST-MODIFIED:20260219T205540Z
UID:20118-1776502800-1776513600@cityoffultonny.gov
SUMMARY:Intro to Bird Watching
DESCRIPTION: Intro to Bird Watching – Guided Walks with Tim Carroll Are you thinking about joining the ranks of over 45 million bird watchers in the U.S.? Now’s your chance!Join Tim Carroll for a guided bird watching experience along the beautiful Lake Neatahwanta Nature Trail. Learn about equipment\, where to find birds\, and how to identify many of the species that live and migrate through our area. Location: Bullhead Point Time: 9:00 AM Dates: April 18\, April 25\, and May 2 Cost: FREE Duration: Approximately 3 hours Please bring binoculars (if you have them) and wear footwear suitable for possibly wet or muddy trails. Registration: https://forms.gle/YEVPiEofHKpmsSAW7Whether you’re brand new to birding or just looking to learn more\, this is a great way to explore nature and enjoy the outdoors.Come discover the birds of our community—one feather at a time! 
URL:https://cityoffultonny.gov/event/intro-to-bird-watching/
LOCATION:Bullhead Point\, W Broadway\, Fulton\, NY\, 13069
CATEGORIES:Community Events
ATTACH;FMTTYPE=image/jpeg:https://cityoffultonny.gov/wp-content/uploads/2026/02/birdwatching.jpg
END:VEVENT
BEGIN:VEVENT
DTSTART;TZID=America/New_York:20260418T100000
DTEND;TZID=America/New_York:20260418T113000
DTSTAMP:20260420T085945
CREATED:20260415T184021Z
LAST-MODIFIED:20260415T184021Z
UID:20841-1776506400-1776511800@cityoffultonny.gov
SUMMARY:Kids Paint Class - Starry Night
DESCRIPTION:Kids paint class\, each student will paint this wonderful “Starry Night” painting. Paint with or without the cats\, or change them to dogs\, your choice. $25 per student
URL:https://cityoffultonny.gov/event/kids-paint-class-starry-night/
LOCATION:CNY Community Arts Center\, 121 Cayuga St.\, Fulton\, NY\, 13069
CATEGORIES:Community Events
ATTACH;FMTTYPE=image/jpeg:https://cityoffultonny.gov/wp-content/uploads/2026/04/starrynight.jpg
END:VEVENT
BEGIN:VEVENT
DTSTART;TZID=America/New_York:20260418T100000
DTEND;TZID=America/New_York:20260418T120000
DTSTAMP:20260420T085945
CREATED:20250210T153249Z
LAST-MODIFIED:20260406T204459Z
UID:15428-1776506400-1776513600@cityoffultonny.gov
SUMMARY:Free Sack Lunch
DESCRIPTION:Free sack lunch – every Saturday\, 10 am – 12 noon \n1st United Church\, 33 S. Third Street\, Fulton
URL:https://cityoffultonny.gov/event/free-sack-lunch-2/
LOCATION:First United Church\, 33 S 3rd St\, Fulton\, NY\, 13069
CATEGORIES:Community Events
ATTACH;FMTTYPE=image/jpeg:https://cityoffultonny.gov/wp-content/uploads/2025/01/sacklunch.jpg
END:VEVENT
BEGIN:VEVENT
DTSTART;TZID=America/New_York:20260418T100000
DTEND;TZID=America/New_York:20260418T140000
DTSTAMP:20260420T085945
CREATED:20260415T181952Z
LAST-MODIFIED:20260415T181952Z
UID:20819-1776506400-1776520800@cityoffultonny.gov
SUMMARY:Rummage Sale
DESCRIPTION:Treasure hunting for a great cause! Join us at the Y this Saturday for our Imagination Club Rummage Sale—come browse\, shop\, and support our creative crew! You never know what fun finds you’ll discover.\nAll proceeds will support summer art camp tuition\, helping make camp more accessible for participants. We hope to see you there!\nEvent will be held outdoors weather permittingRain date: May 2\nRummage Sale Location:Fulton Family YMCA715 W BroadwayFulton NY 13069315.598.9622
URL:https://cityoffultonny.gov/event/rummage-sale/
LOCATION:Fulton Family YMCA\, 715 W Broadway\, Fulton\, NY\, 13069
CATEGORIES:Community Events
ATTACH;FMTTYPE=image/jpeg:https://cityoffultonny.gov/wp-content/uploads/2026/04/rummagesale.jpg
END:VEVENT
BEGIN:VEVENT
DTSTART;TZID=America/New_York:20260418T140000
DTEND;TZID=America/New_York:20260418T150000
DTSTAMP:20260420T085945
CREATED:20260415T181811Z
LAST-MODIFIED:20260415T181811Z
UID:20816-1776520800-1776524400@cityoffultonny.gov
SUMMARY:BIGfest 2026
DESCRIPTION:Join us Saturday\, April 18th at 2:00 PM at the 114 Reserve in Fulton\, NY for an afternoon celebrating the mystery of Bigfoot.\nBrowse unique vendors\, hear fascinating talks from Bigfoot researchers\, and enjoy original stage plays inspired by the world’s most elusive creature. Whether you’re a lifelong believer\, a curious skeptic\, or just looking for a fun afternoon\, BIGfest has something for you.
URL:https://cityoffultonny.gov/event/bigfest-2026/
LOCATION:114 Reserve\, 114 Oneida St\, Fulton\, NY\, 13069
CATEGORIES:Community Events
ATTACH;FMTTYPE=image/jpeg:https://cityoffultonny.gov/wp-content/uploads/2026/04/bigfest.jpg
END:VEVENT
BEGIN:VEVENT
DTSTART;TZID=America/New_York:20260418T180000
DTEND;TZID=America/New_York:20260418T200000
DTSTAMP:20260420T085945
CREATED:20260415T182209Z
LAST-MODIFIED:20260415T182209Z
UID:20822-1776535200-1776542400@cityoffultonny.gov
SUMMARY:Free Reiki Treatments
DESCRIPTION:Amethyst Reiki and Forest Path Studio are teaming up to provide an evening of healing by offering free Reiki Treatments. If you are a Reiki Practitioner this will be a great opportunity to come and practice your skills or receive a treatment yourself\, or both! If you are not Reiki attuned\, come and enjoy a 20 minute treatment for free. Never tried Reiki before? What a perfect opportunity to try this service. Donations will be accepted but are not required.\nFor this event we will be providing chair sessions. Wheel chairs and people with mobility issues are welcome.
URL:https://cityoffultonny.gov/event/free-reiki-treatments/
LOCATION:Amethyst Reiki\, 732 W Broadway\, Fulton\, NY\, 13069
CATEGORIES:Community Events
ATTACH;FMTTYPE=image/jpeg:https://cityoffultonny.gov/wp-content/uploads/2026/04/reiki.jpg
END:VEVENT
END:VCALENDAR