BEGIN:VCALENDAR
VERSION:2.0
PRODID:-//The City of Fulton - ECPv6.15.18//NONSGML v1.0//EN
CALSCALE:GREGORIAN
METHOD:PUBLISH
X-WR-CALNAME:The City of Fulton
X-ORIGINAL-URL:https://cityoffultonny.gov
X-WR-CALDESC:Events for The City of Fulton
REFRESH-INTERVAL;VALUE=DURATION:PT1H
X-Robots-Tag:noindex
X-PUBLISHED-TTL:PT1H
BEGIN:VTIMEZONE
TZID:America/New_York
BEGIN:DAYLIGHT
TZOFFSETFROM:-0500
TZOFFSETTO:-0400
TZNAME:EDT
DTSTART:20250309T070000
END:DAYLIGHT
BEGIN:STANDARD
TZOFFSETFROM:-0400
TZOFFSETTO:-0500
TZNAME:EST
DTSTART:20251102T060000
END:STANDARD
BEGIN:DAYLIGHT
TZOFFSETFROM:-0500
TZOFFSETTO:-0400
TZNAME:EDT
DTSTART:20260308T070000
END:DAYLIGHT
BEGIN:STANDARD
TZOFFSETFROM:-0400
TZOFFSETTO:-0500
TZNAME:EST
DTSTART:20261101T060000
END:STANDARD
BEGIN:DAYLIGHT
TZOFFSETFROM:-0500
TZOFFSETTO:-0400
TZNAME:EDT
DTSTART:20270314T070000
END:DAYLIGHT
BEGIN:STANDARD
TZOFFSETFROM:-0400
TZOFFSETTO:-0500
TZNAME:EST
DTSTART:20271107T060000
END:STANDARD
END:VTIMEZONE
BEGIN:VEVENT
DTSTART;TZID=America/New_York:20260511T070000
DTEND;TZID=America/New_York:20260511T210000
DTSTAMP:20260421T190209
CREATED:20240807T150934Z
LAST-MODIFIED:20260415T173025Z
UID:12260-1778482800-1778533200@cityoffultonny.gov
SUMMARY:Planning Board Meeting
DESCRIPTION:The City of Fulton Planning Commission meets on the second and fourth Monday of each month at 7:00PM in the Fulton Municipal Building.
URL:https://cityoffultonny.gov/event/planning-board-meeting-2/
LOCATION:Fulton Municipal Building\, 141 S 1st St\, Fulton\, NY\, 13069
CATEGORIES:Board Meetings
ATTACH;FMTTYPE=image/png:https://cityoffultonny.gov/wp-content/uploads/2024/08/City-of-Fulton-Planning-Commission.png
END:VEVENT
END:VCALENDAR