BEGIN:VCALENDAR
VERSION:2.0
PRODID:-//The City of Fulton - ECPv6.15.18//NONSGML v1.0//EN
CALSCALE:GREGORIAN
METHOD:PUBLISH
X-ORIGINAL-URL:https://cityoffultonny.gov
X-WR-CALDESC:Events for The City of Fulton
REFRESH-INTERVAL;VALUE=DURATION:PT1H
X-Robots-Tag:noindex
X-PUBLISHED-TTL:PT1H
BEGIN:VTIMEZONE
TZID:America/New_York
BEGIN:DAYLIGHT
TZOFFSETFROM:-0500
TZOFFSETTO:-0400
TZNAME:EDT
DTSTART:20250309T070000
END:DAYLIGHT
BEGIN:STANDARD
TZOFFSETFROM:-0400
TZOFFSETTO:-0500
TZNAME:EST
DTSTART:20251102T060000
END:STANDARD
BEGIN:DAYLIGHT
TZOFFSETFROM:-0500
TZOFFSETTO:-0400
TZNAME:EDT
DTSTART:20260308T070000
END:DAYLIGHT
BEGIN:STANDARD
TZOFFSETFROM:-0400
TZOFFSETTO:-0500
TZNAME:EST
DTSTART:20261101T060000
END:STANDARD
BEGIN:DAYLIGHT
TZOFFSETFROM:-0500
TZOFFSETTO:-0400
TZNAME:EDT
DTSTART:20270314T070000
END:DAYLIGHT
BEGIN:STANDARD
TZOFFSETFROM:-0400
TZOFFSETTO:-0500
TZNAME:EST
DTSTART:20271107T060000
END:STANDARD
END:VTIMEZONE
BEGIN:VEVENT
DTSTART;TZID=America/New_York:20260703T183000
DTEND;TZID=America/New_York:20260703T210000
DTSTAMP:20260421T153732
CREATED:20260421T152613Z
LAST-MODIFIED:20260421T152613Z
UID:20961-1783103400-1783112400@cityoffultonny.gov
SUMMARY:The Allen Brand at Chubby's
DESCRIPTION:Come hear your favorite cover tunes and kick off the 4th of July weekend with us!
URL:https://cityoffultonny.gov/event/the-allen-brand-at-chubbys/
LOCATION:Chubby’s Sports Bar & Grill\, 224 W First St S\, Fulton\, NY\, 13069
CATEGORIES:Arts & Entertainment,Community Events
ATTACH;FMTTYPE=image/jpeg:https://cityoffultonny.gov/wp-content/uploads/2026/04/allenbrand.jpg
END:VEVENT
BEGIN:VEVENT
DTSTART;TZID=America/New_York:20260703T190000
DTEND;TZID=America/New_York:20260703T220000
DTSTAMP:20260421T153732
CREATED:20260421T151911Z
LAST-MODIFIED:20260421T151911Z
UID:20958-1783105200-1783116000@cityoffultonny.gov
SUMMARY:Reflections Classic Rock at Lakeview Lanes
DESCRIPTION:Reflections Classic Rock returns to Lakeview Lanes in Fulton for the start of the Patriotic Weekend. We will be there Friday July 3rd from 7pm to 10pm. Join us for a great night!
URL:https://cityoffultonny.gov/event/reflections-classic-rock-at-lakeview-lanes/
LOCATION:Lakeview Lanes\, 723 W Broadway\, Fulton\, NY\, 13069
CATEGORIES:Arts & Entertainment,Community Events
ATTACH;FMTTYPE=image/jpeg:https://cityoffultonny.gov/wp-content/uploads/2026/04/reflections.jpg
END:VEVENT
END:VCALENDAR