BEGIN:VCALENDAR
VERSION:2.0
PRODID:-//The City of Fulton - ECPv6.15.18//NONSGML v1.0//EN
CALSCALE:GREGORIAN
METHOD:PUBLISH
X-ORIGINAL-URL:https://cityoffultonny.gov
X-WR-CALDESC:Events for The City of Fulton
REFRESH-INTERVAL;VALUE=DURATION:PT1H
X-Robots-Tag:noindex
X-PUBLISHED-TTL:PT1H
BEGIN:VTIMEZONE
TZID:America/New_York
BEGIN:DAYLIGHT
TZOFFSETFROM:-0500
TZOFFSETTO:-0400
TZNAME:EDT
DTSTART:20250309T070000
END:DAYLIGHT
BEGIN:STANDARD
TZOFFSETFROM:-0400
TZOFFSETTO:-0500
TZNAME:EST
DTSTART:20251102T060000
END:STANDARD
BEGIN:DAYLIGHT
TZOFFSETFROM:-0500
TZOFFSETTO:-0400
TZNAME:EDT
DTSTART:20260308T070000
END:DAYLIGHT
BEGIN:STANDARD
TZOFFSETFROM:-0400
TZOFFSETTO:-0500
TZNAME:EST
DTSTART:20261101T060000
END:STANDARD
BEGIN:DAYLIGHT
TZOFFSETFROM:-0500
TZOFFSETTO:-0400
TZNAME:EDT
DTSTART:20270314T070000
END:DAYLIGHT
BEGIN:STANDARD
TZOFFSETFROM:-0400
TZOFFSETTO:-0500
TZNAME:EST
DTSTART:20271107T060000
END:STANDARD
END:VTIMEZONE
BEGIN:VEVENT
DTSTART;TZID=America/New_York:20260718T110000
DTEND;TZID=America/New_York:20260718T150000
DTSTAMP:20260421T120055
CREATED:20260421T145314Z
LAST-MODIFIED:20260421T145314Z
UID:20923-1784372400-1784386800@cityoffultonny.gov
SUMMARY:July Vendor Alley
DESCRIPTION:Shop Local. Support Dreams. Stay Cool.\nSummer is in full swing! Join us for the July Vendor Alley at Lakeview Lanes for a day of sun\, shade\, and small business magic.\nKitchen will open at 10:30 am\, breakfast menu served until 1 pm.\nSupport your neighbors\, fuel local dreams\, and enjoy the best community vibes of the season.\n When: Saturday\, July 18 | 11AM – 3PM Entry: Free!
URL:https://cityoffultonny.gov/event/july-vendor-alley/
LOCATION:Lakeview Lanes\, 723 W Broadway\, Fulton\, NY\, 13069
CATEGORIES:Community Events
ATTACH;FMTTYPE=image/jpeg:https://cityoffultonny.gov/wp-content/uploads/2026/04/julyvendoralley.jpg
END:VEVENT
BEGIN:VEVENT
DTSTART;TZID=America/New_York:20260718T190000
DTEND;TZID=America/New_York:20260718T220000
DTSTAMP:20260421T120055
CREATED:20260421T151355Z
LAST-MODIFIED:20260421T151355Z
UID:20949-1784401200-1784412000@cityoffultonny.gov
SUMMARY:Summer Concert Series: Labor Day Storm
DESCRIPTION: 2026 Summer Concert Series at The Yard! Get ready for an unforgettable summer of live music\, great vibes\, and outdoor fun at Lakeview Lanes & The Yard! Gather your friends\, bring your lawn chairs\, and enjoy incredible performances under the open sky.\nSat\, July 18 – Labor Day Storm\nTime: 7 PM – 10 PM (unless otherwise noted)\n Reminder: Bring your own chair – all events are held outdoors\, weather permitting. ONLY $10 COVER CHARGE!Enjoy a full evening of live entertainment at an unbeatable price—just $10 to be part of the summer’s best nights!Great music. Refreshing drinks. Perfect summer nights. Don’t miss a single show!
URL:https://cityoffultonny.gov/event/summer-concert-series-labor-day-storm/
LOCATION:Lakeview Lanes\, 723 W Broadway\, Fulton\, NY\, 13069
CATEGORIES:Arts & Entertainment,Community Events
ATTACH;FMTTYPE=image/jpeg:https://cityoffultonny.gov/wp-content/uploads/2026/04/labordaystorm.jpg
END:VEVENT
END:VCALENDAR