BEGIN:VCALENDAR
VERSION:2.0
PRODID:-//The City of Fulton - ECPv6.15.18//NONSGML v1.0//EN
CALSCALE:GREGORIAN
METHOD:PUBLISH
X-ORIGINAL-URL:https://cityoffultonny.gov
X-WR-CALDESC:Events for The City of Fulton
REFRESH-INTERVAL;VALUE=DURATION:PT1H
X-Robots-Tag:noindex
X-PUBLISHED-TTL:PT1H
BEGIN:VTIMEZONE
TZID:America/New_York
BEGIN:DAYLIGHT
TZOFFSETFROM:-0500
TZOFFSETTO:-0400
TZNAME:EDT
DTSTART:20250309T070000
END:DAYLIGHT
BEGIN:STANDARD
TZOFFSETFROM:-0400
TZOFFSETTO:-0500
TZNAME:EST
DTSTART:20251102T060000
END:STANDARD
BEGIN:DAYLIGHT
TZOFFSETFROM:-0500
TZOFFSETTO:-0400
TZNAME:EDT
DTSTART:20260308T070000
END:DAYLIGHT
BEGIN:STANDARD
TZOFFSETFROM:-0400
TZOFFSETTO:-0500
TZNAME:EST
DTSTART:20261101T060000
END:STANDARD
BEGIN:DAYLIGHT
TZOFFSETFROM:-0500
TZOFFSETTO:-0400
TZNAME:EDT
DTSTART:20270314T070000
END:DAYLIGHT
BEGIN:STANDARD
TZOFFSETFROM:-0400
TZOFFSETTO:-0500
TZNAME:EST
DTSTART:20271107T060000
END:STANDARD
END:VTIMEZONE
BEGIN:VEVENT
DTSTART;TZID=America/New_York:20260502T090000
DTEND;TZID=America/New_York:20260502T120000
DTSTAMP:20260420T110326
CREATED:20260219T205730Z
LAST-MODIFIED:20260219T205730Z
UID:20123-1777712400-1777723200@cityoffultonny.gov
SUMMARY:Intro to Bird Watching
DESCRIPTION: Intro to Bird Watching – Guided Walks with Tim Carroll Are you thinking about joining the ranks of over 45 million bird watchers in the U.S.? Now’s your chance!Join Tim Carroll for a guided bird watching experience along the beautiful Lake Neatahwanta Nature Trail. Learn about equipment\, where to find birds\, and how to identify many of the species that live and migrate through our area. Location: Bullhead Point Time: 9:00 AM Dates: April 18\, April 25\, and May 2 Cost: FREE Duration: Approximately 3 hours Please bring binoculars (if you have them) and wear footwear suitable for possibly wet or muddy trails. Registration: https://forms.gle/YEVPiEofHKpmsSAW7Whether you’re brand new to birding or just looking to learn more\, this is a great way to explore nature and enjoy the outdoors.Come discover the birds of our community—one feather at a time! 
URL:https://cityoffultonny.gov/event/intro-to-bird-watching-3/
LOCATION:Bullhead Point\, W Broadway\, Fulton\, NY\, 13069
CATEGORIES:Community Events
ATTACH;FMTTYPE=image/jpeg:https://cityoffultonny.gov/wp-content/uploads/2026/02/birdwatching.jpg
END:VEVENT
BEGIN:VEVENT
DTSTART;TZID=America/New_York:20260502T100000
DTEND;TZID=America/New_York:20260502T170000
DTSTAMP:20260420T110326
CREATED:20260415T174250Z
LAST-MODIFIED:20260415T174250Z
UID:20791-1777716000-1777741200@cityoffultonny.gov
SUMMARY:Spring Time Express Model Train Show
DESCRIPTION:Come see us at the Spring Time Express Model Train Show featuring operating layouts in N-scale\, HO\, American Flyer\, Lionel – O scale\, and more. Enjoy top-notch food at the Volney Fire House kitchen if you get hungry.
URL:https://cityoffultonny.gov/event/spring-time-express-model-train-show/
LOCATION:Volney Volunteer Fire Corporation\, 3002 State Route 3\, Fulton\, NY\, 13069
CATEGORIES:Community Events
ATTACH;FMTTYPE=image/jpeg:https://cityoffultonny.gov/wp-content/uploads/2026/04/trainshow.jpg
END:VEVENT
BEGIN:VEVENT
DTSTART;TZID=America/New_York:20260502T110000
DTEND;TZID=America/New_York:20260502T170000
DTSTAMP:20260420T110326
CREATED:20260415T182336Z
LAST-MODIFIED:20260415T182336Z
UID:20825-1777719600-1777741200@cityoffultonny.gov
SUMMARY:Fulton Elks May Day
DESCRIPTION:Join us on Saturday\, May 2\, 2026\, for our annual May Day Celebration! Many free activities and entertainment for children and families. Food available for sale. We will again be having our Bike Giveaway\, one each to a boy and girl in Pre-K through 6th grades. Registration for the giveaway that day at the Elks\, must be present to win.
URL:https://cityoffultonny.gov/event/fulton-elks-may-day/
LOCATION:BPOE Fulton NY Elks\, 57 Pierce Dr\, Fulton\, NY\, 13069
CATEGORIES:Community Events
ATTACH;FMTTYPE=image/jpeg:https://cityoffultonny.gov/wp-content/uploads/2026/04/mayday.jpg
END:VEVENT
BEGIN:VEVENT
DTSTART;TZID=America/New_York:20260502T150000
DTEND;TZID=America/New_York:20260502T180000
DTSTAMP:20260420T110326
CREATED:20260415T181416Z
LAST-MODIFIED:20260415T181416Z
UID:20810-1777734000-1777744800@cityoffultonny.gov
SUMMARY:Pregnant & Prepared: A Pregnancy & Postpartum Support Event
DESCRIPTION:Join us for an afternoon designed to help you feel more supported\, informed\, and confident as you prepare for birth and postpartum.\nPregnant & Prepared is a relaxed\, community-centered event where expecting moms (and those trying to conceive!) can connect with trusted local providers\, ask questions\, and learn about resources available right here in our area.This is NOT a lecture-style class. It’s an opportunity to slow down\, get real answers\, and build connections with the professionals who can support you throughout pregnancy\, birth\, postpartum\, and beyond.\n Event Details 114 Reserve | Fulton May 2nd 3:00–6:00 PM $45 per ticket\nWhat’s Included• Panel-style Q&A with pregnancy + postpartum providers• Time to mingle and connect with each provider one-on-one• Mini massages• Snacks\, coffee\, and lemonade• Photography moment + keepsake photo• Affirmation station + “Build Your Birth Team” activity• Build Your Own Salt Soak Station!\nMeet the Panelists• Dr. Nikki Titman – Chiropractor• Dr. Shweta Singh – Pelvic Floor Physical Therapist (Sage Physical Therapy & Wellness)• Kristen Orts\, Certified Professional Midwife• Mary Carlisle\, LCSW – Social Worker & Therapist specializing in postpartum support• Danielle Wiebel\, CLC – Lactation Counselor• Jessica – 5 Moons Doula• Jenn – Hope and Grace Doula Services\nVendors & Extras• Simply Shelayna Newborn Photography• Body Works by Kay – Massage Therapist• Tiff Smith Massage\, Esthetics\, and Stretch\nWhether you’re newly pregnant\, nearing delivery\, or even just beginning your journey and trying to conceive\, this event is for you. \nSpots are limited\, grab your ticket early!
URL:https://cityoffultonny.gov/event/pregnant-prepared-a-pregnancy-postpartum-support-event/
LOCATION:114 Reserve\, 114 Oneida St\, Fulton\, NY\, 13069
CATEGORIES:Community Events
ATTACH;FMTTYPE=image/jpeg:https://cityoffultonny.gov/wp-content/uploads/2026/04/pregnantandprepared.jpg
END:VEVENT
END:VCALENDAR