BEGIN:VCALENDAR
VERSION:2.0
PRODID:-//The City of Fulton - ECPv6.15.18//NONSGML v1.0//EN
CALSCALE:GREGORIAN
METHOD:PUBLISH
X-ORIGINAL-URL:https://cityoffultonny.gov
X-WR-CALDESC:Events for The City of Fulton
REFRESH-INTERVAL;VALUE=DURATION:PT1H
X-Robots-Tag:noindex
X-PUBLISHED-TTL:PT1H
BEGIN:VTIMEZONE
TZID:America/New_York
BEGIN:DAYLIGHT
TZOFFSETFROM:-0500
TZOFFSETTO:-0400
TZNAME:EDT
DTSTART:20250309T070000
END:DAYLIGHT
BEGIN:STANDARD
TZOFFSETFROM:-0400
TZOFFSETTO:-0500
TZNAME:EST
DTSTART:20251102T060000
END:STANDARD
BEGIN:DAYLIGHT
TZOFFSETFROM:-0500
TZOFFSETTO:-0400
TZNAME:EDT
DTSTART:20260308T070000
END:DAYLIGHT
BEGIN:STANDARD
TZOFFSETFROM:-0400
TZOFFSETTO:-0500
TZNAME:EST
DTSTART:20261101T060000
END:STANDARD
BEGIN:DAYLIGHT
TZOFFSETFROM:-0500
TZOFFSETTO:-0400
TZNAME:EDT
DTSTART:20270314T070000
END:DAYLIGHT
BEGIN:STANDARD
TZOFFSETFROM:-0400
TZOFFSETTO:-0500
TZNAME:EST
DTSTART:20271107T060000
END:STANDARD
END:VTIMEZONE
BEGIN:VEVENT
DTSTART;TZID=America/New_York:20260715T110000
DTEND;TZID=America/New_York:20260715T120000
DTSTAMP:20260420T143643
CREATED:20260317T154413Z
LAST-MODIFIED:20260317T154413Z
UID:20424-1784113200-1784116800@cityoffultonny.gov
SUMMARY:Summer Toddler Tunes Concert
DESCRIPTION:Toddler Tunes Concert Series is Back! \n\n\nJoin us for our Toddler Tunes Concert Series — a fun\, interactive music experience designed just for our littlest community members! These upbeat concerts are the perfect way for toddlers to sing\, dance\, and explore the joy of music in a welcoming and creative space.\n\n\n Concert Dates:\n April Fools Day Concert – April 1\n Summer Concert – July 15\n Christmas Concert – December 21\n\n\n Time: 11:00 AM – 12:00 PM\n Location: CNY Arts Center\n\n\nThis program is funded through a generous grant from the Oswego County Youth Bureau\, and we are incredibly thankful for their support in making these experiences possible for our families.\n\n\nA special thank you as well to our wonderful partners at The Art Scene at CNY Arts Center for hosting the series and helping bring arts programming to our youngest residents.\n\n\nWe can’t wait to see you and your little ones there!
URL:https://cityoffultonny.gov/event/summer-toddler-tunes-concert/
LOCATION:CNY Community Arts Center\, 121 Cayuga St.\, Fulton\, NY\, 13069
CATEGORIES:Community Events
ATTACH;FMTTYPE=image/jpeg:https://cityoffultonny.gov/wp-content/uploads/2026/03/toddlertunessummer.jpg
END:VEVENT
END:VCALENDAR