BEGIN:VCALENDAR
VERSION:2.0
PRODID:-//The City of Fulton - ECPv6.15.18//NONSGML v1.0//EN
CALSCALE:GREGORIAN
METHOD:PUBLISH
X-ORIGINAL-URL:https://cityoffultonny.gov
X-WR-CALDESC:Events for The City of Fulton
REFRESH-INTERVAL;VALUE=DURATION:PT1H
X-Robots-Tag:noindex
X-PUBLISHED-TTL:PT1H
BEGIN:VTIMEZONE
TZID:America/New_York
BEGIN:DAYLIGHT
TZOFFSETFROM:-0500
TZOFFSETTO:-0400
TZNAME:EDT
DTSTART:20250309T070000
END:DAYLIGHT
BEGIN:STANDARD
TZOFFSETFROM:-0400
TZOFFSETTO:-0500
TZNAME:EST
DTSTART:20251102T060000
END:STANDARD
BEGIN:DAYLIGHT
TZOFFSETFROM:-0500
TZOFFSETTO:-0400
TZNAME:EDT
DTSTART:20260308T070000
END:DAYLIGHT
BEGIN:STANDARD
TZOFFSETFROM:-0400
TZOFFSETTO:-0500
TZNAME:EST
DTSTART:20261101T060000
END:STANDARD
BEGIN:DAYLIGHT
TZOFFSETFROM:-0500
TZOFFSETTO:-0400
TZNAME:EDT
DTSTART:20270314T070000
END:DAYLIGHT
BEGIN:STANDARD
TZOFFSETFROM:-0400
TZOFFSETTO:-0500
TZNAME:EST
DTSTART:20271107T060000
END:STANDARD
END:VTIMEZONE
BEGIN:VEVENT
DTSTART;TZID=America/New_York:20260819T170000
DTEND;TZID=America/New_York:20260819T210000
DTSTAMP:20260420T163026
CREATED:20260226T200029Z
LAST-MODIFIED:20260226T200029Z
UID:20224-1787158800-1787173200@cityoffultonny.gov
SUMMARY:Balloons Under the Moon
DESCRIPTION: We’re back for YEAR TWO! \nJoin us for the Balloons Under the Moon II! Taking place in the Town of Granby on August 19th from 5PM–9PM at Don Butler Park (300 Chase Rd).\nYear one was so much fun! but We’ve made some thoughtful adjustments and can’t wait to share a great experience with our community!\n FREE admission & shuttle Family-friendly fun Magical hot air balloons under the night sky Music and entertainment Food trucks Vendors…and MORE!\n\n Rain Date 08/26
URL:https://cityoffultonny.gov/event/balloons-under-the-moon/
LOCATION:300 Chase Rd\, Fulton\, NY\, 13069
CATEGORIES:Community Events
ATTACH;FMTTYPE=image/jpeg:https://cityoffultonny.gov/wp-content/uploads/2026/02/balloons.jpg
END:VEVENT
END:VCALENDAR