BEGIN:VCALENDAR
VERSION:2.0
PRODID:-//The City of Fulton - ECPv6.15.18//NONSGML v1.0//EN
CALSCALE:GREGORIAN
METHOD:PUBLISH
X-ORIGINAL-URL:https://cityoffultonny.gov
X-WR-CALDESC:Events for The City of Fulton
REFRESH-INTERVAL;VALUE=DURATION:PT1H
X-Robots-Tag:noindex
X-PUBLISHED-TTL:PT1H
BEGIN:VTIMEZONE
TZID:America/New_York
BEGIN:DAYLIGHT
TZOFFSETFROM:-0500
TZOFFSETTO:-0400
TZNAME:EDT
DTSTART:20250309T070000
END:DAYLIGHT
BEGIN:STANDARD
TZOFFSETFROM:-0400
TZOFFSETTO:-0500
TZNAME:EST
DTSTART:20251102T060000
END:STANDARD
BEGIN:DAYLIGHT
TZOFFSETFROM:-0500
TZOFFSETTO:-0400
TZNAME:EDT
DTSTART:20260308T070000
END:DAYLIGHT
BEGIN:STANDARD
TZOFFSETFROM:-0400
TZOFFSETTO:-0500
TZNAME:EST
DTSTART:20261101T060000
END:STANDARD
BEGIN:DAYLIGHT
TZOFFSETFROM:-0500
TZOFFSETTO:-0400
TZNAME:EDT
DTSTART:20270314T070000
END:DAYLIGHT
BEGIN:STANDARD
TZOFFSETFROM:-0400
TZOFFSETTO:-0500
TZNAME:EST
DTSTART:20271107T060000
END:STANDARD
END:VTIMEZONE
BEGIN:VEVENT
DTSTART;TZID=America/New_York:20260421T090000
DTEND;TZID=America/New_York:20260421T160000
DTSTAMP:20260420T170135
CREATED:20260204T204158Z
LAST-MODIFIED:20260326T142725Z
UID:19964-1776762000-1776787200@cityoffultonny.gov
SUMMARY:Job Corps Representative
DESCRIPTION:Job Corps Representative- Call us at 315-591-9000 for more information. Meet with a representative from Oneonta Job Corps to find out about training for a career you’re passionate about.
URL:https://cityoffultonny.gov/event/job-corps-representative/
LOCATION:Oswego County Workforce New York\, 200 N Second St\, Fulton\, NY\, 13069
CATEGORIES:Employment, Education, and Training
ATTACH;FMTTYPE=image/jpeg:https://cityoffultonny.gov/wp-content/uploads/2026/02/workforce.jpg
END:VEVENT
END:VCALENDAR