BEGIN:VCALENDAR
VERSION:2.0
PRODID:-//The City of Fulton - ECPv6.15.18//NONSGML v1.0//EN
CALSCALE:GREGORIAN
METHOD:PUBLISH
X-WR-CALNAME:The City of Fulton
X-ORIGINAL-URL:https://cityoffultonny.gov
X-WR-CALDESC:Events for The City of Fulton
REFRESH-INTERVAL;VALUE=DURATION:PT1H
X-Robots-Tag:noindex
X-PUBLISHED-TTL:PT1H
BEGIN:VTIMEZONE
TZID:America/New_York
BEGIN:DAYLIGHT
TZOFFSETFROM:-0500
TZOFFSETTO:-0400
TZNAME:EDT
DTSTART:20250309T070000
END:DAYLIGHT
BEGIN:STANDARD
TZOFFSETFROM:-0400
TZOFFSETTO:-0500
TZNAME:EST
DTSTART:20251102T060000
END:STANDARD
BEGIN:DAYLIGHT
TZOFFSETFROM:-0500
TZOFFSETTO:-0400
TZNAME:EDT
DTSTART:20260308T070000
END:DAYLIGHT
BEGIN:STANDARD
TZOFFSETFROM:-0400
TZOFFSETTO:-0500
TZNAME:EST
DTSTART:20261101T060000
END:STANDARD
BEGIN:DAYLIGHT
TZOFFSETFROM:-0500
TZOFFSETTO:-0400
TZNAME:EDT
DTSTART:20270314T070000
END:DAYLIGHT
BEGIN:STANDARD
TZOFFSETFROM:-0400
TZOFFSETTO:-0500
TZNAME:EST
DTSTART:20271107T060000
END:STANDARD
END:VTIMEZONE
BEGIN:VEVENT
DTSTART;TZID=America/New_York:20260425T140000
DTEND;TZID=America/New_York:20260425T163000
DTSTAMP:20260422T184415
CREATED:20260415T190329Z
LAST-MODIFIED:20260415T190329Z
UID:20844-1777125600-1777134600@cityoffultonny.gov
SUMMARY:Witches Tea: Tarot & Witchy Crescent Moon Project
DESCRIPTION:This monthly gathering will cover 4 new tarot cards\, you can bring your own deck or learn from provided information. And make this amazing Witchy Crescent Moon project under the instruction of Tracy Edson. $30 per person\, sign up with the link provided\, limited seating. https://www.facebook.com/share/1CbgnWEQqF/
URL:https://cityoffultonny.gov/event/witches-tea-tarot-witchy-crescent-moon-project/
LOCATION:CNY Community Arts Center\, 121 Cayuga St.\, Fulton\, NY\, 13069
CATEGORIES:Community Events
ATTACH;FMTTYPE=image/jpeg:https://cityoffultonny.gov/wp-content/uploads/2026/04/witchestea.jpg
END:VEVENT
BEGIN:VEVENT
DTSTART;TZID=America/New_York:20260425T100000
DTEND;TZID=America/New_York:20260425T120000
DTSTAMP:20260422T184415
CREATED:20250124T210100Z
LAST-MODIFIED:20260415T172858Z
UID:15000-1777111200-1777118400@cityoffultonny.gov
SUMMARY:Free Sack Lunch
DESCRIPTION:Free sack lunch – every Saturday\, 10 am – 12 noon \n1st United Church\, 33 S. Third Street\, Fulton
URL:https://cityoffultonny.gov/event/free-sack-lunch/
LOCATION:First United Church\, 33 S 3rd St\, Fulton\, NY\, 13069
CATEGORIES:Community Events
ATTACH;FMTTYPE=image/jpeg:https://cityoffultonny.gov/wp-content/uploads/2025/01/sacklunch.jpg
END:VEVENT
BEGIN:VEVENT
DTSTART;TZID=America/New_York:20260425T090000
DTEND;TZID=America/New_York:20260425T120000
DTSTAMP:20260422T184415
CREATED:20260219T205639Z
LAST-MODIFIED:20260219T205639Z
UID:20121-1777107600-1777118400@cityoffultonny.gov
SUMMARY:Intro to Bird Watching
DESCRIPTION: Intro to Bird Watching – Guided Walks with Tim Carroll Are you thinking about joining the ranks of over 45 million bird watchers in the U.S.? Now’s your chance!Join Tim Carroll for a guided bird watching experience along the beautiful Lake Neatahwanta Nature Trail. Learn about equipment\, where to find birds\, and how to identify many of the species that live and migrate through our area. Location: Bullhead Point Time: 9:00 AM Dates: April 18\, April 25\, and May 2 Cost: FREE Duration: Approximately 3 hours Please bring binoculars (if you have them) and wear footwear suitable for possibly wet or muddy trails. Registration: https://forms.gle/YEVPiEofHKpmsSAW7Whether you’re brand new to birding or just looking to learn more\, this is a great way to explore nature and enjoy the outdoors.Come discover the birds of our community—one feather at a time! 
URL:https://cityoffultonny.gov/event/intro-to-bird-watching-2/
LOCATION:Bullhead Point\, W Broadway\, Fulton\, NY\, 13069
CATEGORIES:Community Events
ATTACH;FMTTYPE=image/jpeg:https://cityoffultonny.gov/wp-content/uploads/2026/02/birdwatching.jpg
END:VEVENT
BEGIN:VEVENT
DTSTART;TZID=America/New_York:20260424T193000
DTEND;TZID=America/New_York:20260424T213000
DTSTAMP:20260422T184415
CREATED:20260415T181107Z
LAST-MODIFIED:20260415T181108Z
UID:20807-1777059000-1777066200@cityoffultonny.gov
SUMMARY:Neurotic Nights
DESCRIPTION:Join us for a journey into the psyche! Discover all colors of emotion as expressed in the best way possible…SONG! \nYou won’t want to miss this STACKED cast and the electrifying notes that will make you soar to new heights!\nBar available\, concessions available\, awareness everywhere.\nRelease the stigma launching into Mental Health Awareness month with us at the Art Scene!
URL:https://cityoffultonny.gov/event/neurotic-nights/
LOCATION:CNY Community Arts Center\, 121 Cayuga St.\, Fulton\, NY\, 13069
CATEGORIES:Arts & Entertainment,Community Events
ATTACH;FMTTYPE=image/jpeg:https://cityoffultonny.gov/wp-content/uploads/2026/04/neuroticnights.jpg
END:VEVENT
BEGIN:VEVENT
DTSTART;TZID=America/New_York:20260424T160000
DTEND;TZID=America/New_York:20260424T170000
DTSTAMP:20260422T184415
CREATED:20250505T192446Z
LAST-MODIFIED:20260415T172827Z
UID:16475-1777046400-1777050000@cityoffultonny.gov
SUMMARY:Chess Club
DESCRIPTION:Whether you’re a seasoned grandmaster or just learning the rules\, all ages and skill levels are welcome at the Fulton Public Library’s biweekly Chess Club! Come connect with fellow chess enthusiasts in a friendly and engaging environment.
URL:https://cityoffultonny.gov/event/chess-club-2/
LOCATION:Fulton Public Library\, 160 S 1st St\, Fulton\, NY\, 13069
CATEGORIES:Community Events
ATTACH;FMTTYPE=image/jpeg:https://cityoffultonny.gov/wp-content/uploads/2026/02/chessclub.jpg
END:VEVENT
BEGIN:VEVENT
DTSTART;TZID=America/New_York:20260424T130000
DTEND;TZID=America/New_York:20260424T140000
DTSTAMP:20260422T184415
CREATED:20260226T201654Z
LAST-MODIFIED:20260415T174414Z
UID:20240-1777035600-1777039200@cityoffultonny.gov
SUMMARY:Ticket-to-Work (WISE) Seminar
DESCRIPTION:WISE Seminar for SSDI/SSI Recipients- Call us at 315-591-9000 to reserve a seat. For individuals receiving Social Security Disability (SSDI or SSI) who want to learn about the benefits of trying work through the Ticket-to-Work program! Find out about work incentives and rules designed exclusively for you!
URL:https://cityoffultonny.gov/event/ticket-to-work-wise-seminar/
LOCATION:Oswego County Workforce New York\, 200 N Second St\, Fulton\, NY\, 13069
CATEGORIES:Employment, Education, and Training
ATTACH;FMTTYPE=image/jpeg:https://cityoffultonny.gov/wp-content/uploads/2026/02/workforce.jpg
END:VEVENT
BEGIN:VEVENT
DTSTART;TZID=America/New_York:20260423T190000
DTEND;TZID=America/New_York:20260423T220000
DTSTAMP:20260422T184415
CREATED:20260421T151604Z
LAST-MODIFIED:20260421T151604Z
UID:20952-1776970800-1776981600@cityoffultonny.gov
SUMMARY:Caleb Liber at Lakeview Lanes
DESCRIPTION:Get ready for an insane night full of all your favorite tunes! Caleb will have his extensive song lists available and will be taking your requests for three straight hours. Shoot down early\, get your bowling on\, then have some drinks\, scarf some grub\, and sing along. Let’s party!
URL:https://cityoffultonny.gov/event/caleb-liber-at-lakeview-lanes/
LOCATION:Lakeview Lanes\, 723 W Broadway\, Fulton\, NY\, 13069
CATEGORIES:Arts & Entertainment,Community Events
ATTACH;FMTTYPE=image/jpeg:https://cityoffultonny.gov/wp-content/uploads/2026/04/calebliber.jpg
END:VEVENT
BEGIN:VEVENT
DTSTART;TZID=America/New_York:20260423T180000
DTEND;TZID=America/New_York:20260423T200000
DTSTAMP:20260422T184415
CREATED:20240807T151159Z
LAST-MODIFIED:20260415T172744Z
UID:12264-1776967200-1776974400@cityoffultonny.gov
SUMMARY:Cats\, Cuddles\, and Cookies with the SPCA
DESCRIPTION:Every Thursday from 6-8pm you can join the Oswego County SPCA for cats\, cuddles\, and cookies at 357 State St on the lower level of State Street Church. You bring the cuddles\, we supply the cats and cookies!
URL:https://cityoffultonny.gov/event/cats-cuddles-and-cookies-with-the-spca-2/
LOCATION:State Street United Methodist Church\, 357 State St\, Fulton\, NY\, 13069
CATEGORIES:Community Events
ATTACH;FMTTYPE=image/jpeg:https://cityoffultonny.gov/wp-content/uploads/2024/05/cats-e1719416243769.jpg
END:VEVENT
BEGIN:VEVENT
DTSTART;TZID=America/New_York:20260423T160000
DTEND;TZID=America/New_York:20260423T170000
DTSTAMP:20260422T184415
CREATED:20240807T150450Z
LAST-MODIFIED:20260415T172710Z
UID:12252-1776960000-1776963600@cityoffultonny.gov
SUMMARY:Lego Club
DESCRIPTION:Join us for an hour of Lego-building fun! Kids of all ages are encouraged to drop by from 4-5 pm every Thursday for some creative\, free-building time.
URL:https://cityoffultonny.gov/event/lego-club-2/
LOCATION:Fulton Public Library\, 160 S 1st St\, Fulton\, NY\, 13069
CATEGORIES:Library
ATTACH;FMTTYPE=image/jpeg:https://cityoffultonny.gov/wp-content/uploads/2024/08/legoclub.jpg
END:VEVENT
BEGIN:VEVENT
DTSTART;TZID=America/New_York:20260423T130000
DTEND;TZID=America/New_York:20260423T140000
DTSTAMP:20260422T184415
CREATED:20240830T191642Z
LAST-MODIFIED:20260415T172655Z
UID:12762-1776949200-1776952800@cityoffultonny.gov
SUMMARY:Pre-K Storytime
DESCRIPTION:Join Miss Janelle for some fun\, family time! Every Tuesday at 10am and Thursday at 1pm you can come join us for a story and a craft.
URL:https://cityoffultonny.gov/event/pre-k-storytime-4/
LOCATION:Fulton Public Library\, 160 S 1st St\, Fulton\, NY\, 13069
CATEGORIES:Library
ATTACH;FMTTYPE=image/jpeg:https://cityoffultonny.gov/wp-content/uploads/2024/08/storytime.jpg
END:VEVENT
BEGIN:VEVENT
DTSTART;TZID=America/New_York:20260423T110000
DTEND;TZID=America/New_York:20260423T120000
DTSTAMP:20260422T184415
CREATED:20260415T180746Z
LAST-MODIFIED:20260415T180746Z
UID:20800-1776942000-1776945600@cityoffultonny.gov
SUMMARY:Adult Storytime: Earth Day
DESCRIPTION:Celebrate Earth Day with us as we honor our beautiful planet! We will share inspiring stories about the small steps we can take to protect our environment\, followed by a hands-on “upcycling” event. Instead of throwing items away\, we’ll give them new life by transforming recycled materials into unique crafts. Join us in doing our part for the Earth—one story and one craft at a time. See you there!
URL:https://cityoffultonny.gov/event/adult-storytime-earth-day/
LOCATION:Fulton Public Library\, 160 S 1st St\, Fulton\, NY\, 13069
CATEGORIES:Community Events
ATTACH;FMTTYPE=image/jpeg:https://cityoffultonny.gov/wp-content/uploads/2026/04/adultstorytime.jpg
END:VEVENT
BEGIN:VEVENT
DTSTART;TZID=America/New_York:20260422T170000
DTEND;TZID=America/New_York:20260422T180000
DTSTAMP:20260422T184415
CREATED:20260326T152523Z
LAST-MODIFIED:20260326T152524Z
UID:20516-1776877200-1776880800@cityoffultonny.gov
SUMMARY:Get Edgy: Sprayed Edges Workshop
DESCRIPTION:Give your favorite story a glow-up! Join us and Liz from Edgy Pages LLC for a hands-on workshop where you’ll learn the art of “sprayed edges.” Whether you want a bold solid color or a shimmering metallic finish\, you’ll leave with a custom-designed book that looks stunning on any shelf.\n**Registration Note**: Please provide the title of the book you plan to bring when you sign up. To ensure the best results\, your book must be a paperback with smooth (non-deckled) edges and a thickness of at least 3/4 inch (typically 300+ pages). Limited spots available\, To register email or call at fullib@ncls.org or 315-592-5159
URL:https://cityoffultonny.gov/event/get-edgy-sprayed-edges-workshop/
LOCATION:Fulton Public Library\, 160 S 1st St\, Fulton\, NY\, 13069
CATEGORIES:Community Events
ATTACH;FMTTYPE=image/jpeg:https://cityoffultonny.gov/wp-content/uploads/2026/03/sprayededges.jpg
END:VEVENT
END:VCALENDAR